BEGIN:VCALENDAR
VERSION:2.0
PRODID:-//Deutsch-Britische Gesellschaft Münster/Münsterland e.V. - ECPv6.15.18//NONSGML v1.0//EN
CALSCALE:GREGORIAN
METHOD:PUBLISH
X-ORIGINAL-URL:https://dbg-ms-land.de
X-WR-CALDESC:Veranstaltungen für Deutsch-Britische Gesellschaft Münster/Münsterland e.V.
REFRESH-INTERVAL;VALUE=DURATION:PT1H
X-Robots-Tag:noindex
X-PUBLISHED-TTL:PT1H
BEGIN:VTIMEZONE
TZID:Europe/Berlin
BEGIN:DAYLIGHT
TZOFFSETFROM:+0100
TZOFFSETTO:+0200
TZNAME:CEST
DTSTART:20250330T010000
END:DAYLIGHT
BEGIN:STANDARD
TZOFFSETFROM:+0200
TZOFFSETTO:+0100
TZNAME:CET
DTSTART:20251026T010000
END:STANDARD
BEGIN:DAYLIGHT
TZOFFSETFROM:+0100
TZOFFSETTO:+0200
TZNAME:CEST
DTSTART:20260329T010000
END:DAYLIGHT
BEGIN:STANDARD
TZOFFSETFROM:+0200
TZOFFSETTO:+0100
TZNAME:CET
DTSTART:20261025T010000
END:STANDARD
BEGIN:DAYLIGHT
TZOFFSETFROM:+0100
TZOFFSETTO:+0200
TZNAME:CEST
DTSTART:20270328T010000
END:DAYLIGHT
BEGIN:STANDARD
TZOFFSETFROM:+0200
TZOFFSETTO:+0100
TZNAME:CET
DTSTART:20271031T010000
END:STANDARD
END:VTIMEZONE
BEGIN:VEVENT
DTSTART;TZID=Europe/Berlin:20260521T200000
DTEND;TZID=Europe/Berlin:20260521T220000
DTSTAMP:20260421T114605
CREATED:20260107T184938Z
LAST-MODIFIED:20260123T160142Z
UID:403-1779393600-1779400800@dbg-ms-land.de
SUMMARY:The Life and Crimes of Agatha Christie
DESCRIPTION:
URL:https://dbg-ms-land.de/event/the-life-and-crimes-of-agatha-christie/
LOCATION:VHS Münster\, Aegidiimarkt 70\, Münster\, 48143\, Germany
CATEGORIES:Vortrag
ATTACH;FMTTYPE=image/jpeg:https://dbg-ms-land.de/wp-content/uploads/2026/01/John-Curran-Foto-scaled.jpg
END:VEVENT
BEGIN:VEVENT
DTSTART;TZID=Europe/Berlin:20260602T200000
DTEND;TZID=Europe/Berlin:20260602T223000
DTSTAMP:20260421T114605
CREATED:20260105T195618Z
LAST-MODIFIED:20260123T160142Z
UID:385-1780430400-1780439400@dbg-ms-land.de
SUMMARY:Andrew Mitchell\, British Ambassador
DESCRIPTION:Anmeldung erforderlich \nDetails folgen
URL:https://dbg-ms-land.de/event/andrew-mitchell-british-ambassador/
LOCATION:2-Löwen Klub Münster\, Am Kanonengraben 9\, Münster\, 48151\, Deutschland
CATEGORIES:Vortrag
END:VEVENT
BEGIN:VEVENT
DTSTART;TZID=Europe/Berlin:20260611T200000
DTEND;TZID=Europe/Berlin:20260611T220000
DTSTAMP:20260421T114605
CREATED:20260105T195933Z
LAST-MODIFIED:20260123T154911Z
UID:389-1781208000-1781215200@dbg-ms-land.de
SUMMARY:The Brontë Sisters: Lives and Legacy
DESCRIPTION:
URL:https://dbg-ms-land.de/event/the-bronte-sisters-lives-and-legacy/
LOCATION:VHS Münster\, Aegidiimarkt 70\, Münster\, 48143\, Germany
CATEGORIES:Vortrag
END:VEVENT
BEGIN:VEVENT
DTSTART;TZID=Europe/Berlin:20260712T110000
DTEND;TZID=Europe/Berlin:20260712T150000
DTSTAMP:20260421T114605
CREATED:20260105T195758Z
LAST-MODIFIED:20260123T160142Z
UID:387-1783854000-1783868400@dbg-ms-land.de
SUMMARY:The 15th Britnic The Picnic
DESCRIPTION:
URL:https://dbg-ms-land.de/event/the-15th-britnic-the-picnic/
LOCATION:Westfälischen Schule für Musik\, Himmelreichallee 50\, Münster\, 48149
CATEGORIES:Konzert,Kunst,Picknick
END:VEVENT
BEGIN:VEVENT
DTSTART;TZID=Europe/Berlin:20260910T200000
DTEND;TZID=Europe/Berlin:20260910T220000
DTSTAMP:20260421T114605
CREATED:20260120T185001Z
LAST-MODIFIED:20260131T163820Z
UID:408-1789070400-1789077600@dbg-ms-land.de
SUMMARY:"Operation marriage“ – Why did the British create the German land of North-Rhine-Westphalia in 1946?
DESCRIPTION:
URL:https://dbg-ms-land.de/event/operation-marriage-why-did-the-british-create-the-german-land-of-north-rhine-westphalia-in-1946/
LOCATION:VHS Münster\, Aegidiimarkt 70\, Münster\, 48143\, Germany
CATEGORIES:Vortrag
ATTACH;FMTTYPE=image/jpeg:https://dbg-ms-land.de/wp-content/uploads/2026/01/Christopher-Knowles.jpg
END:VEVENT
BEGIN:VEVENT
DTSTART;TZID=Europe/Berlin:20261008T200000
DTEND;TZID=Europe/Berlin:20261008T220000
DTSTAMP:20260421T114605
CREATED:20260120T185133Z
LAST-MODIFIED:20260121T113826Z
UID:411-1791489600-1791496800@dbg-ms-land.de
SUMMARY:“Brexit ten years on: How on earth did we end up here and is there any way back?“
DESCRIPTION:
URL:https://dbg-ms-land.de/event/brexit-ten-years-on-how-on-earth-did-we-end-up-here-and-is-there-any-way-back/
LOCATION:VHS Münster\, Aegidiimarkt 70\, Münster\, 48143\, Germany
CATEGORIES:Vortrag
ATTACH;FMTTYPE=image/jpeg:https://dbg-ms-land.de/wp-content/uploads/2026/01/Mark-Damazer-Foto.jpg
END:VEVENT
BEGIN:VEVENT
DTSTART;TZID=Europe/Berlin:20261130T180000
DTEND;TZID=Europe/Berlin:20261130T190000
DTSTAMP:20260421T114605
CREATED:20260105T200028Z
LAST-MODIFIED:20260123T160142Z
UID:391-1796061600-1796065200@dbg-ms-land.de
SUMMARY:Christmas Carol Service
DESCRIPTION:
URL:https://dbg-ms-land.de/event/christmas-carol-service-3/
LOCATION:Paulusdom\, Domplatz 28\, Münster\, 48143
CATEGORIES:Konzert
END:VEVENT
BEGIN:VEVENT
DTSTART;TZID=Europe/Berlin:20261204T190000
DTEND;TZID=Europe/Berlin:20261204T190000
DTSTAMP:20260421T114605
CREATED:20260105T200137Z
LAST-MODIFIED:20260123T160142Z
UID:393-1796410800-1796410800@dbg-ms-land.de
SUMMARY:Christmas Get-Together
DESCRIPTION:Anmeldung erforderlich \nDetails folgen
URL:https://dbg-ms-land.de/event/christmas-get-together-3/
LOCATION:2-Löwen Klub Münster\, Am Kanonengraben 9\, Münster\, 48151\, Deutschland
CATEGORIES:Abendveranstaltung
END:VEVENT
END:VCALENDAR